BEGIN:VCALENDAR
VERSION:2.0
PRODID:-//Kirchgemeinde Arnstadt - ECPv6.15.20//NONSGML v1.0//EN
CALSCALE:GREGORIAN
METHOD:PUBLISH
X-WR-CALNAME:Kirchgemeinde Arnstadt
X-ORIGINAL-URL:https://kirche-arnstadt.de
X-WR-CALDESC:Veranstaltungen für Kirchgemeinde Arnstadt
REFRESH-INTERVAL;VALUE=DURATION:PT1H
X-Robots-Tag:noindex
X-PUBLISHED-TTL:PT1H
BEGIN:VTIMEZONE
TZID:Europe/Berlin
BEGIN:DAYLIGHT
TZOFFSETFROM:+0100
TZOFFSETTO:+0200
TZNAME:CEST
DTSTART:20230326T010000
END:DAYLIGHT
BEGIN:STANDARD
TZOFFSETFROM:+0200
TZOFFSETTO:+0100
TZNAME:CET
DTSTART:20231029T010000
END:STANDARD
BEGIN:DAYLIGHT
TZOFFSETFROM:+0100
TZOFFSETTO:+0200
TZNAME:CEST
DTSTART:20240331T010000
END:DAYLIGHT
BEGIN:STANDARD
TZOFFSETFROM:+0200
TZOFFSETTO:+0100
TZNAME:CET
DTSTART:20241027T010000
END:STANDARD
BEGIN:DAYLIGHT
TZOFFSETFROM:+0100
TZOFFSETTO:+0200
TZNAME:CEST
DTSTART:20250330T010000
END:DAYLIGHT
BEGIN:STANDARD
TZOFFSETFROM:+0200
TZOFFSETTO:+0100
TZNAME:CET
DTSTART:20251026T010000
END:STANDARD
END:VTIMEZONE
BEGIN:VEVENT
DTSTART;TZID=Europe/Berlin:20240419T190000
DTEND;TZID=Europe/Berlin:20240419T200000
DTSTAMP:20260420T150857
CREATED:20240410T130825Z
LAST-MODIFIED:20240410T130825Z
UID:4678-1713553200-1713556800@kirche-arnstadt.de
SUMMARY:Atem-Stimme-Raum (Singen als Gesundbrunnen)
DESCRIPTION:Singen ohne Noten als gestaltetes Ausatmen und Klangimprovisationen mit Kantor Jörg Reddin \n– mit vielen Frühlingsliedern! \n„Singen ist gut für den Kreislauf\, stärkt das vegetative Nervensystem und die Abwehrkräfte\, macht glücklich und ist lebensverlängernd“\, so Jörg Reddin. Im Workshop\, der sich an alle Interessierten ohne Vorkenntnisse richtet\, leitet er Übungen/Selbsterfahrungen\, um mit langen Atemzügen der jeweils eigenen Stimme in Leichtigkeit ihren Raum zu geben. Ziele sind eine psychophysische Balance (Wohlfühlen)\, eine Einheit von Körper-Geist-Seele und innere Ausgeglichenheit. „Singen ist ein Gesundbrunnen!“\, so der Kantor. \nDie Teilnahme ist kostenlos. Es wird um eine Spende für die kirchenmusikalische Arbeit der Gemeinde gebeten.
URL:https://kirche-arnstadt.de/event/atem-stimme-raum-singen-als-gesundbrunnen/
LOCATION:Oberkirche\, Saal\, Pfarrhof 4\, Arnstadt\, 99310
CATEGORIES:Kirchenmusik
ATTACH;FMTTYPE=image/jpeg:https://kirche-arnstadt.de/wp-content/uploads/2017/05/hiddensee-5.jpg
END:VEVENT
END:VCALENDAR