BEGIN:VCALENDAR
VERSION:2.0
PRODID:-//Kirchgemeinde Arnstadt - ECPv6.15.20//NONSGML v1.0//EN
CALSCALE:GREGORIAN
METHOD:PUBLISH
X-ORIGINAL-URL:https://kirche-arnstadt.de
X-WR-CALDESC:Veranstaltungen für Kirchgemeinde Arnstadt
REFRESH-INTERVAL;VALUE=DURATION:PT1H
X-Robots-Tag:noindex
X-PUBLISHED-TTL:PT1H
BEGIN:VTIMEZONE
TZID:Europe/Berlin
BEGIN:DAYLIGHT
TZOFFSETFROM:+0100
TZOFFSETTO:+0200
TZNAME:CEST
DTSTART:20240331T010000
END:DAYLIGHT
BEGIN:STANDARD
TZOFFSETFROM:+0200
TZOFFSETTO:+0100
TZNAME:CET
DTSTART:20241027T010000
END:STANDARD
BEGIN:DAYLIGHT
TZOFFSETFROM:+0100
TZOFFSETTO:+0200
TZNAME:CEST
DTSTART:20250330T010000
END:DAYLIGHT
BEGIN:STANDARD
TZOFFSETFROM:+0200
TZOFFSETTO:+0100
TZNAME:CET
DTSTART:20251026T010000
END:STANDARD
BEGIN:DAYLIGHT
TZOFFSETFROM:+0100
TZOFFSETTO:+0200
TZNAME:CEST
DTSTART:20260329T010000
END:DAYLIGHT
BEGIN:STANDARD
TZOFFSETFROM:+0200
TZOFFSETTO:+0100
TZNAME:CET
DTSTART:20261025T010000
END:STANDARD
END:VTIMEZONE
BEGIN:VEVENT
DTSTART;TZID=Europe/Berlin:20251231T183000
DTEND;TZID=Europe/Berlin:20251231T183000
DTSTAMP:20260420T152617
CREATED:20250909T092440Z
LAST-MODIFIED:20250909T092847Z
UID:5613-1767205800-1767205800@kirche-arnstadt.de
SUMMARY:Konzert zum Jahresausklang für Saxophon und Orgel
DESCRIPTION:Lassen Sie sich festlich einstimmen auf den Jahreswechsel! \nChristian Elin am Saxophon und Organist Jörg Reddin spielen ein ansprechendes Programm\, das das alte Jahr verabschiedet und das neue willkommen heißt. \nTickets
URL:https://kirche-arnstadt.de/event/konzert-zum-jahresausklang-fuer-saxophon-und-orgel/
LOCATION:Johann-Sebastian-Bach-Kirche\, An der Neuen Kirche\, Arnstadt\, 99310
CATEGORIES:Kirchenmusik,Konzert
ATTACH;FMTTYPE=image/jpeg:https://kirche-arnstadt.de/wp-content/uploads/2019/03/joerg-reddin_rospial.jpg
END:VEVENT
END:VCALENDAR