BEGIN:VCALENDAR
VERSION:2.0
PRODID:-//Kirchgemeinde Arnstadt - ECPv6.15.20//NONSGML v1.0//EN
CALSCALE:GREGORIAN
METHOD:PUBLISH
X-ORIGINAL-URL:https://kirche-arnstadt.de
X-WR-CALDESC:Veranstaltungen für Kirchgemeinde Arnstadt
REFRESH-INTERVAL;VALUE=DURATION:PT1H
X-Robots-Tag:noindex
X-PUBLISHED-TTL:PT1H
BEGIN:VTIMEZONE
TZID:Europe/Berlin
BEGIN:DAYLIGHT
TZOFFSETFROM:+0100
TZOFFSETTO:+0200
TZNAME:CEST
DTSTART:20220327T010000
END:DAYLIGHT
BEGIN:STANDARD
TZOFFSETFROM:+0200
TZOFFSETTO:+0100
TZNAME:CET
DTSTART:20221030T010000
END:STANDARD
BEGIN:DAYLIGHT
TZOFFSETFROM:+0100
TZOFFSETTO:+0200
TZNAME:CEST
DTSTART:20230326T010000
END:DAYLIGHT
BEGIN:STANDARD
TZOFFSETFROM:+0200
TZOFFSETTO:+0100
TZNAME:CET
DTSTART:20231029T010000
END:STANDARD
BEGIN:DAYLIGHT
TZOFFSETFROM:+0100
TZOFFSETTO:+0200
TZNAME:CEST
DTSTART:20240331T010000
END:DAYLIGHT
BEGIN:STANDARD
TZOFFSETFROM:+0200
TZOFFSETTO:+0100
TZNAME:CET
DTSTART:20241027T010000
END:STANDARD
END:VTIMEZONE
BEGIN:VEVENT
DTSTART;TZID=Europe/Berlin:20230820T170000
DTEND;TZID=Europe/Berlin:20230820T180000
DTSTAMP:20260424T074356
CREATED:20230331T131152Z
LAST-MODIFIED:20230331T131152Z
UID:4228-1692550800-1692554400@kirche-arnstadt.de
SUMMARY:Musik vom Mittelalter bis Bach
DESCRIPTION:Das besondere Abschlusskonzert der Internationalen Arnstädter Wandelorgelkonzerte \nFidel: Susanne Ansorg\nGesang und Schlagwerk: Philipp Lamprecht\nGesang und Orgel: Jörg Reddin \nDer erste Teil des Wandelkonzertes findet in der Liebfrauenkirche statt; nach kurzer Wandelpause wird die zweite Konzerthälfte in der Oberkirche fortgesetzt. \nTickets
URL:https://kirche-arnstadt.de/event/musik-vom-mittelalter-bis-bach/
LOCATION:Liebfrauenkirche\, An der Liebfrauenkirche\, Arnstadt\, Deutschland
CATEGORIES:Kirchenmusik,Konzert
ATTACH;FMTTYPE=image/jpeg:https://kirche-arnstadt.de/wp-content/uploads/2023/03/Philipp-Lamprecht-c-Franz-Gleiss_web.jpg
END:VEVENT
END:VCALENDAR