BEGIN:VCALENDAR
VERSION:2.0
PRODID:-//Kirchgemeinde Arnstadt - ECPv6.15.20//NONSGML v1.0//EN
CALSCALE:GREGORIAN
METHOD:PUBLISH
X-ORIGINAL-URL:https://kirche-arnstadt.de
X-WR-CALDESC:Veranstaltungen für Kirchgemeinde Arnstadt
REFRESH-INTERVAL;VALUE=DURATION:PT1H
X-Robots-Tag:noindex
X-PUBLISHED-TTL:PT1H
BEGIN:VTIMEZONE
TZID:Europe/Berlin
BEGIN:DAYLIGHT
TZOFFSETFROM:+0100
TZOFFSETTO:+0200
TZNAME:CEST
DTSTART:20220327T010000
END:DAYLIGHT
BEGIN:STANDARD
TZOFFSETFROM:+0200
TZOFFSETTO:+0100
TZNAME:CET
DTSTART:20221030T010000
END:STANDARD
BEGIN:DAYLIGHT
TZOFFSETFROM:+0100
TZOFFSETTO:+0200
TZNAME:CEST
DTSTART:20230326T010000
END:DAYLIGHT
BEGIN:STANDARD
TZOFFSETFROM:+0200
TZOFFSETTO:+0100
TZNAME:CET
DTSTART:20231029T010000
END:STANDARD
BEGIN:DAYLIGHT
TZOFFSETFROM:+0100
TZOFFSETTO:+0200
TZNAME:CEST
DTSTART:20240331T010000
END:DAYLIGHT
BEGIN:STANDARD
TZOFFSETFROM:+0200
TZOFFSETTO:+0100
TZNAME:CET
DTSTART:20241027T010000
END:STANDARD
END:VTIMEZONE
BEGIN:VEVENT
DTSTART;TZID=Europe/Berlin:20230909T180000
DTEND;TZID=Europe/Berlin:20230909T180000
DTSTAMP:20260420T123016
CREATED:20230331T130409Z
LAST-MODIFIED:20230904T083435Z
UID:4224-1694282400-1694282400@kirche-arnstadt.de
SUMMARY:Crossroads - Gitarrenkonzert mit Silvio Schneider
DESCRIPTION:Silvio Schneider (Dresden) mischt Smooth-Bossa mit groovy-funkigen Rhythmen\, Jazz mit Pop\, dazu ein paar Einflüsse aus dem Flamenco\, der Klassik\, elektronische Sounds und Loops und entwickelt so seinen ganz eigenen Sound\, den er „Groovy World Guitar“ nennt. \nSeit seinem Gitarren- und Kompositions-Studium in Dresden beschäftigt sich Silvio Schneider intensiv mit lateinamerikanischer Musik und ist mit seinen Projekten seit über 20 Jahren auf der ganzen Welt unterwegs. Solo\, mit KaraSol\, HOELDER oder früher mit Nassler & Schneider führten ihn rund 1.500 Konzerte in die Schweiz\, nach Österreich\, Italien\, Ungarn\, in die Tschechische Republik\, nach Frankreich\, Luxemburg\, Belgien\, Holland\, Schweden\, Russland\, Mazedonien\, in die Türkei\, die USA\, Mexiko\, Kanada\, entlang der westafrikanischen Küste\, in den Libanon und bis nach Japan. \nSilvio Schneider veröffentlichte sechs CDs und arbeitete als Gast mit vielen Musikern zusammen\, darunter Nippy Noya (Percussion)\, Bergitta Victor (Sängerin von den Seychellen) oder Dominic Miller (Gitarrist von Sting). \n2018 gewann er den Deutschen Rock- und Pop-Preis in der Kategorie „Bester Gitarrist“. \nTickets
URL:https://kirche-arnstadt.de/event/gitarrenkonzert/
LOCATION:Oberkirche Arnstadt\, Pfarrhof\, Arnstadt\, Deutschland
CATEGORIES:Kirchenmusik,Konzert
ATTACH;FMTTYPE=image/jpeg:https://kirche-arnstadt.de/wp-content/uploads/2023/03/Silvio_Schneider-c-CorneliaNormann.jpg
END:VEVENT
END:VCALENDAR