BEGIN:VCALENDAR
VERSION:2.0
PRODID:-//Kirchgemeinde Arnstadt - ECPv6.15.20//NONSGML v1.0//EN
CALSCALE:GREGORIAN
METHOD:PUBLISH
X-WR-CALNAME:Kirchgemeinde Arnstadt
X-ORIGINAL-URL:https://kirche-arnstadt.de
X-WR-CALDESC:Veranstaltungen für Kirchgemeinde Arnstadt
REFRESH-INTERVAL;VALUE=DURATION:PT1H
X-Robots-Tag:noindex
X-PUBLISHED-TTL:PT1H
BEGIN:VTIMEZONE
TZID:Europe/Berlin
BEGIN:DAYLIGHT
TZOFFSETFROM:+0100
TZOFFSETTO:+0200
TZNAME:CEST
DTSTART:20220327T010000
END:DAYLIGHT
BEGIN:STANDARD
TZOFFSETFROM:+0200
TZOFFSETTO:+0100
TZNAME:CET
DTSTART:20221030T010000
END:STANDARD
BEGIN:DAYLIGHT
TZOFFSETFROM:+0100
TZOFFSETTO:+0200
TZNAME:CEST
DTSTART:20230326T010000
END:DAYLIGHT
BEGIN:STANDARD
TZOFFSETFROM:+0200
TZOFFSETTO:+0100
TZNAME:CET
DTSTART:20231029T010000
END:STANDARD
BEGIN:DAYLIGHT
TZOFFSETFROM:+0100
TZOFFSETTO:+0200
TZNAME:CEST
DTSTART:20240331T010000
END:DAYLIGHT
BEGIN:STANDARD
TZOFFSETFROM:+0200
TZOFFSETTO:+0100
TZNAME:CET
DTSTART:20241027T010000
END:STANDARD
END:VTIMEZONE
BEGIN:VEVENT
DTSTART;TZID=Europe/Berlin:20230521T170000
DTEND;TZID=Europe/Berlin:20230521T183000
DTSTAMP:20260420T183118
CREATED:20230323T092021Z
LAST-MODIFIED:20230329T144442Z
UID:4136-1684688400-1684693800@kirche-arnstadt.de
SUMMARY:Der weiße Hai im Alpensee und Bach – Barockes und Jazziges
DESCRIPTION:Wenn drei Posaunisten und ein Schlagzeuger zusammen ein Konzert spielen\, ist das schon für sich genommen ein Erlebnis. Wenn dann die dargebotene musikalische Bandbreite von Thomas Morley über Johann Sebastian Bach bis zu DER WEISSE HAI IM ALPENSEE des Österreichers Christoph Wundrak reicht\, ist Hochspannung mit percussion posaune leipzig garantiert. \n\npercussion posaune leipzig\nMarton Palko\, Maxim Kulikov – Tenorposaune\nMatthias Büttner – Bassposaune\nPer Winkler – Drums \nTickets
URL:https://kirche-arnstadt.de/event/der-weisse-hai-im-alpensee-und-bach-barockes-und-jazziges/
LOCATION:Johann-Sebastian-Bach-Kirche\, An der Neuen Kirche\, Arnstadt\, 99310
CATEGORIES:Kirchenmusik,Konzert
ATTACH;FMTTYPE=image/png:https://kirche-arnstadt.de/wp-content/uploads/2023/03/percussion-posaune-leipzig-cTheodor-Gelsdorf.png
END:VEVENT
END:VCALENDAR