BEGIN:VCALENDAR
VERSION:2.0
PRODID:-//Kirchgemeinde Arnstadt - ECPv6.15.20//NONSGML v1.0//EN
CALSCALE:GREGORIAN
METHOD:PUBLISH
X-ORIGINAL-URL:https://kirche-arnstadt.de
X-WR-CALDESC:Veranstaltungen für Kirchgemeinde Arnstadt
REFRESH-INTERVAL;VALUE=DURATION:PT1H
X-Robots-Tag:noindex
X-PUBLISHED-TTL:PT1H
BEGIN:VTIMEZONE
TZID:Europe/Berlin
BEGIN:DAYLIGHT
TZOFFSETFROM:+0100
TZOFFSETTO:+0200
TZNAME:CEST
DTSTART:20210328T010000
END:DAYLIGHT
BEGIN:STANDARD
TZOFFSETFROM:+0200
TZOFFSETTO:+0100
TZNAME:CET
DTSTART:20211031T010000
END:STANDARD
BEGIN:DAYLIGHT
TZOFFSETFROM:+0100
TZOFFSETTO:+0200
TZNAME:CEST
DTSTART:20220327T010000
END:DAYLIGHT
BEGIN:STANDARD
TZOFFSETFROM:+0200
TZOFFSETTO:+0100
TZNAME:CET
DTSTART:20221030T010000
END:STANDARD
BEGIN:DAYLIGHT
TZOFFSETFROM:+0100
TZOFFSETTO:+0200
TZNAME:CEST
DTSTART:20230326T010000
END:DAYLIGHT
BEGIN:STANDARD
TZOFFSETFROM:+0200
TZOFFSETTO:+0100
TZNAME:CET
DTSTART:20231029T010000
END:STANDARD
END:VTIMEZONE
BEGIN:VEVENT
DTSTART;TZID=Europe/Berlin:20221029T180000
DTEND;TZID=Europe/Berlin:20221029T193000
DTSTAMP:20260421T052842
CREATED:20220725T143710Z
LAST-MODIFIED:20220725T143710Z
UID:3735-1667066400-1667071800@kirche-arnstadt.de
SUMMARY:Best of Bach
DESCRIPTION:5. Brandenburgisches Konzert D-Dur BWV 1050\nKonzert für zwei Violinen und Orchester d-moll BWV 1043\nKantate „Jauchzet Gott in allen Landen“ BWV 51 \n„Folkwang Barock“ Projekt (Studierende der Folkwang Universität der Künste Essen)\nLeitung: Prof. Midori Seiler
URL:https://kirche-arnstadt.de/event/best-of-bach/
LOCATION:Johann-Sebastian-Bach-Kirche\, An der Neuen Kirche\, Arnstadt\, 99310
CATEGORIES:Kirchenmusik
END:VEVENT
END:VCALENDAR