BEGIN:VCALENDAR
VERSION:2.0
PRODID:-//Kirchgemeinde Arnstadt - ECPv6.15.20//NONSGML v1.0//EN
CALSCALE:GREGORIAN
METHOD:PUBLISH
X-ORIGINAL-URL:https://kirche-arnstadt.de
X-WR-CALDESC:Veranstaltungen für Kirchgemeinde Arnstadt
REFRESH-INTERVAL;VALUE=DURATION:PT1H
X-Robots-Tag:noindex
X-PUBLISHED-TTL:PT1H
BEGIN:VTIMEZONE
TZID:Europe/Berlin
BEGIN:DAYLIGHT
TZOFFSETFROM:+0100
TZOFFSETTO:+0200
TZNAME:CEST
DTSTART:20210328T010000
END:DAYLIGHT
BEGIN:STANDARD
TZOFFSETFROM:+0200
TZOFFSETTO:+0100
TZNAME:CET
DTSTART:20211031T010000
END:STANDARD
BEGIN:DAYLIGHT
TZOFFSETFROM:+0100
TZOFFSETTO:+0200
TZNAME:CEST
DTSTART:20220327T010000
END:DAYLIGHT
BEGIN:STANDARD
TZOFFSETFROM:+0200
TZOFFSETTO:+0100
TZNAME:CET
DTSTART:20221030T010000
END:STANDARD
BEGIN:DAYLIGHT
TZOFFSETFROM:+0100
TZOFFSETTO:+0200
TZNAME:CEST
DTSTART:20230326T010000
END:DAYLIGHT
BEGIN:STANDARD
TZOFFSETFROM:+0200
TZOFFSETTO:+0100
TZNAME:CET
DTSTART:20231029T010000
END:STANDARD
END:VTIMEZONE
BEGIN:VEVENT
DTSTART;TZID=Europe/Berlin:20220506T190000
DTEND;TZID=Europe/Berlin:20220506T213000
DTSTAMP:20260423T184211
CREATED:20210928T135606Z
LAST-MODIFIED:20211012T144436Z
UID:3033-1651863600-1651872600@kirche-arnstadt.de
SUMMARY:Konzert Karussell
DESCRIPTION:KARUSSELL\, das waren Hits wie „Autostopp“\, „Mc. Donald“\, „Ehrlich will ich bleiben“ oder „Wie ein Fischlein unterm Eis“. \nIn neuer Besetzung spielt die Band die großen traditionellen Hits von Karussell und die aktuellen Songs der letzten beiden Alben „Loslassen“ und „Erdenwind“. \nKarten zum Preis von 26\,- € sind (ab 01.10.21) im Stadtkirchenamt der Evangelischen Kirchgemeinde Arnstadt (Pfarrhof 2) und in der Tourist-Information Arnstadt (Markt) erhältlich.
URL:https://kirche-arnstadt.de/event/konzert-karussell/
LOCATION:Johann-Sebastian-Bach-Kirche\, An der Neuen Kirche\, Arnstadt\, 99310
CATEGORIES:Kirchenmusik
ATTACH;FMTTYPE=image/jpeg:https://kirche-arnstadt.de/wp-content/uploads/2021/09/Karussell-Die-Band-c-Karussell_web.jpg
END:VEVENT
END:VCALENDAR