BEGIN:VCALENDAR
VERSION:2.0
PRODID:-//Kirchgemeinde Arnstadt - ECPv6.15.20//NONSGML v1.0//EN
CALSCALE:GREGORIAN
METHOD:PUBLISH
X-WR-CALNAME:Kirchgemeinde Arnstadt
X-ORIGINAL-URL:https://kirche-arnstadt.de
X-WR-CALDESC:Veranstaltungen für Kirchgemeinde Arnstadt
REFRESH-INTERVAL;VALUE=DURATION:PT1H
X-Robots-Tag:noindex
X-PUBLISHED-TTL:PT1H
BEGIN:VTIMEZONE
TZID:Europe/Berlin
BEGIN:DAYLIGHT
TZOFFSETFROM:+0100
TZOFFSETTO:+0200
TZNAME:CEST
DTSTART:20220327T010000
END:DAYLIGHT
BEGIN:STANDARD
TZOFFSETFROM:+0200
TZOFFSETTO:+0100
TZNAME:CET
DTSTART:20221030T010000
END:STANDARD
BEGIN:DAYLIGHT
TZOFFSETFROM:+0100
TZOFFSETTO:+0200
TZNAME:CEST
DTSTART:20230326T010000
END:DAYLIGHT
BEGIN:STANDARD
TZOFFSETFROM:+0200
TZOFFSETTO:+0100
TZNAME:CET
DTSTART:20231029T010000
END:STANDARD
BEGIN:DAYLIGHT
TZOFFSETFROM:+0100
TZOFFSETTO:+0200
TZNAME:CEST
DTSTART:20240331T010000
END:DAYLIGHT
BEGIN:STANDARD
TZOFFSETFROM:+0200
TZOFFSETTO:+0100
TZNAME:CET
DTSTART:20241027T010000
END:STANDARD
END:VTIMEZONE
BEGIN:VEVENT
DTSTART;TZID=Europe/Berlin:20231126T100000
DTEND;TZID=Europe/Berlin:20231126T100000
DTSTAMP:20260421T220817
CREATED:20230831T083608Z
LAST-MODIFIED:20231123T152458Z
UID:4452-1700992800-1700992800@kirche-arnstadt.de
SUMMARY:Kantatengottesdienst
DESCRIPTION:J. S. Bach: Kantate „Liebster Gott\, wann werd ich sterben“ BWV 8\,\nMotette „O Jesu Christ\, meins Lebens Licht“ BWV 118 \nAm Ewigkeitssonntag werden die Namen der Verstorbenen des vergangenen Jahres im Gottesdienst verlesen und eine Kerze wird für sie angezündet. Die Musik im letzten Arnstädter Kantatengottesdienst dieses Jahres soll besonders den Hinterbliebenen Trost geben. \nDer Text der Bach-Kantate „Liebster Gott\, wann wird ich sterben“ bezieht sich auf das Sonntagsevangelium Lukas 7\,11–17\, die Auferweckung des Jünglings zu Nain. Vor diesem Hintergrund formuliert Bach Furcht und Gottvertrauen des Christen angesichts des Todes. \nDie Predigt wird von Regionalbischöfin Dr. Friederike Spengler gehalten. Anstelle der biblischen Lesungen führen die Bachexperten Michael Maul und Bernhard Schrammek in die Kantate ein; beide sind auch bekannt durch die Sendereihe von mdr-Kultur „Die Bach-Kantate mit Maul und Schrammek“. \nSopran: Friederike Beykirch\nAlt: Thomas Riede\nTenor: Mark Mönchgesang\nOrgel: Bastian Uhlig \nKantatenchor Arnstadt\, capella arnestati \nLeitung und Bass: Jörg Reddin \nKantateneinführung: Michael Maul & Bernhard Schrammek \nGastpredigerin: Regionalbischöfin Dr. Friederike Spengler \nLiturgie: Pfarrer Dr. Mathias Rüß
URL:https://kirche-arnstadt.de/event/kantatengottesdienst-14/
LOCATION:Johann-Sebastian-Bach-Kirche\, An der Neuen Kirche\, Arnstadt\, 99310
CATEGORIES:Kirchenmusik
ATTACH;FMTTYPE=image/jpeg:https://kirche-arnstadt.de/wp-content/uploads/2019/03/Kantatenchor_Hans-Peter-Sta.jpg
ORGANIZER;CN="Kirchenmusik der Kirchengemeinde":MAILTO:mv-voc@gmx.de
END:VEVENT
END:VCALENDAR